BEGIN:VCALENDAR
VERSION:2.0
PRODID:-//Tech People - ECPv6.15.20//NONSGML v1.0//EN
CALSCALE:GREGORIAN
METHOD:PUBLISH
X-WR-CALNAME:Tech People
X-ORIGINAL-URL:https://techpeople.kz
X-WR-CALDESC:Мероприятия для Tech People
REFRESH-INTERVAL;VALUE=DURATION:PT1H
X-Robots-Tag:noindex
X-PUBLISHED-TTL:PT1H
BEGIN:VTIMEZONE
TZID:Asia/Karachi
BEGIN:STANDARD
TZOFFSETFROM:+0500
TZOFFSETTO:+0500
TZNAME:PKT
DTSTART:20250101T000000
END:STANDARD
END:VTIMEZONE
BEGIN:VEVENT
DTSTART;TZID=Asia/Karachi:20260307T100000
DTEND;TZID=Asia/Karachi:20260307T120000
DTSTAMP:20260423T135751
CREATED:20251027T141608Z
LAST-MODIFIED:20260304T081211Z
UID:139-1772877600-1772884800@techpeople.kz
SUMMARY:Стартап-кофе в Алматы
DESCRIPTION:За два часа в уютной кофейне обсудим IT и стартап сферу\, будем знакомиться\, делиться опытом и идеями\, обсудим последние новости. Приходите сами\, зовите друзей и коллег. \nБудет много живого общения\, знакомств и действительно интересных разговоров. \nУчастие бесплатное!
URL:https://techpeople.kz/events/startup-coffee-almaty-2/
LOCATION:г. Алматы\, URBO Coffee\, пр. Абылайхана 141
CATEGORIES:Алматы
END:VEVENT
BEGIN:VEVENT
DTSTART;TZID=Asia/Karachi:20260314T100000
DTEND;TZID=Asia/Karachi:20260314T120000
DTSTAMP:20260423T135751
CREATED:20251027T141243Z
LAST-MODIFIED:20260304T083308Z
UID:135-1773482400-1773489600@techpeople.kz
SUMMARY:Стартап-завтрак в Алматы с секретным гостем
DESCRIPTION:✉️ Бронирование мест: @rauanorazkhan
URL:https://techpeople.kz/events/startup-breakfast-almaty/
LOCATION:г. Алматы\, адрес высылается зарегистрированным
CATEGORIES:Алматы
END:VEVENT
BEGIN:VEVENT
DTSTART;TZID=Asia/Karachi:20260321T100000
DTEND;TZID=Asia/Karachi:20260321T120000
DTSTAMP:20260423T135751
CREATED:20251027T144013Z
LAST-MODIFIED:20260304T081351Z
UID:159-1774087200-1774094400@techpeople.kz
SUMMARY:Стартап-кофе в Алматы
DESCRIPTION:За два часа в уютной кофейне обсудим IT и стартап сферу\, будем знакомиться\, делиться опытом и идеями\, обсудим последние новости. Приходите сами\, зовите друзей и коллег. \nБудет много живого общения\, знакомств и действительно интересных разговоров. \nУчастие бесплатное!
URL:https://techpeople.kz/events/startup-coffee-almaty-3/
LOCATION:г. Алматы\, URBO Coffee\, пр. Абылайхана 141
CATEGORIES:Алматы
END:VEVENT
BEGIN:VEVENT
DTSTART;TZID=Asia/Karachi:20260321T120000
DTEND;TZID=Asia/Karachi:20260321T153000
DTSTAMP:20260423T135751
CREATED:20260304T083429Z
LAST-MODIFIED:20260304T083510Z
UID:431-1774094400-1774107000@techpeople.kz
SUMMARY:Стартап-кэшфлоу в Алматы
DESCRIPTION:
URL:https://techpeople.kz/events/startup-cashflow-almaty/
LOCATION:г. Алматы\, URBO Coffee\, пр. Абылайхана 141
CATEGORIES:Алматы
END:VEVENT
BEGIN:VEVENT
DTSTART;TZID=Asia/Karachi:20260328T100000
DTEND;TZID=Asia/Karachi:20260328T120000
DTSTAMP:20260423T135751
CREATED:20251027T132659Z
LAST-MODIFIED:20260304T081615Z
UID:123-1774692000-1774699200@techpeople.kz
SUMMARY:Стартап-кофе в Алматы
DESCRIPTION:За два часа в уютной кофейне обсудим IT и стартап сферу\, будем знакомиться\, делиться опытом и идеями\, обсудим последние новости. Приходите сами\, зовите друзей и коллег. \nБудет много живого общения\, знакомств и действительно интересных разговоров. \nУчастие бесплатное!
URL:https://techpeople.kz/events/startup-coffee-almaty/
LOCATION:г. Алматы\, URBO Coffee\, пр. Абылайхана 141
CATEGORIES:Алматы
END:VEVENT
END:VCALENDAR